BEGIN:VCALENDAR
VERSION:2.0
PRODID:-//wp-events-plugin.com//7.2.3.1//EN
TZID:Europe/Amsterdam
X-WR-TIMEZONE:Europe/Amsterdam
BEGIN:VEVENT
UID:65@sgogrolloo.nl
DTSTART;TZID=Europe/Amsterdam;VALUE=DATE:20220205
DTEND;TZID=Europe/Amsterdam;VALUE=DATE:20220206
DTSTAMP:20211206T130910Z
URL:https://sgogrolloo.nl/evenementen/3-meren-cross-te-gieten/
SUMMARY:3 Meren cross te Gieten
DESCRIPTION:5 februari\, 3 Meren cross\, Gieten
CATEGORIES:Loopgroep
END:VEVENT
BEGIN:VTIMEZONE
TZID:Europe/Amsterdam
X-LIC-LOCATION:Europe/Amsterdam
BEGIN:STANDARD
DTSTART:20211031T020000
TZOFFSETFROM:+0200
TZOFFSETTO:+0100
TZNAME:CET
END:STANDARD
END:VTIMEZONE
END:VCALENDAR