BEGIN:VCALENDAR
VERSION:2.0
PRODID:-//wp-events-plugin.com//7.2.3.1//EN
TZID:Europe/Amsterdam
X-WR-TIMEZONE:Europe/Amsterdam
BEGIN:VEVENT
UID:63@sgogrolloo.nl
DTSTART;TZID=Europe/Amsterdam;VALUE=DATE:20211218
DTEND;TZID=Europe/Amsterdam;VALUE=DATE:20211219
DTSTAMP:20211206T130741Z
URL:https://sgogrolloo.nl/evenementen/drouwenerzandcross-te-gasselte/
SUMMARY:Drouwenerzandcross te Gasselte
DESCRIPTION:18 december Drouwenerzandcross\, Gasselte
CATEGORIES:Loopgroep
END:VEVENT
BEGIN:VTIMEZONE
TZID:Europe/Amsterdam
X-LIC-LOCATION:Europe/Amsterdam
BEGIN:STANDARD
DTSTART:20211031T020000
TZOFFSETFROM:+0200
TZOFFSETTO:+0100
TZNAME:CET
END:STANDARD
END:VTIMEZONE
END:VCALENDAR