BEGIN:VCALENDAR
VERSION:2.0
PRODID:-//wp-events-plugin.com//7.2.3.1//EN
TZID:Europe/Amsterdam
X-WR-TIMEZONE:Europe/Amsterdam
BEGIN:VEVENT
UID:64@sgogrolloo.nl
DTSTART;TZID=Europe/Amsterdam;VALUE=DATE:20220109
DTEND;TZID=Europe/Amsterdam;VALUE=DATE:20220110
DTSTAMP:20211206T130825Z
URL:https://sgogrolloo.nl/evenementen/gletsjerkuil-cross-te-ees/
SUMMARY:Gletsjerkuil cross te Ees
DESCRIPTION:9 januari\, Gletsjerkuil cross\, Ees
CATEGORIES:Loopgroep
END:VEVENT
BEGIN:VTIMEZONE
TZID:Europe/Amsterdam
X-LIC-LOCATION:Europe/Amsterdam
BEGIN:STANDARD
DTSTART:20211031T020000
TZOFFSETFROM:+0200
TZOFFSETTO:+0100
TZNAME:CET
END:STANDARD
END:VTIMEZONE
END:VCALENDAR