BEGIN:VCALENDAR
VERSION:2.0
PRODID:-//wp-events-plugin.com//7.2.3.1//EN
TZID:Europe/Amsterdam
X-WR-TIMEZONE:Europe/Amsterdam
BEGIN:VEVENT
UID:62@sgogrolloo.nl
DTSTART;TZID=Europe/Amsterdam:20210913T000000
DTEND;TZID=Europe/Amsterdam:20210918T000000
DTSTAMP:20210707T102256Z
URL:https://sgogrolloo.nl/evenementen/sportweek-sgo/
SUMMARY:Sportweek SGO
DESCRIPTION:In deze Corona-periode zijn velen blijven sporten\, individueel
  of in kleine groepjes en in de buitenlucht. Anderen hebben het sporten en
  bewegen tijdelijk op een lager pitje gezet of zijn gestopt. De bekende ne
 uropsycholoog Erik Scherder (wie kent hem niet) geeft zelfs aan dat Corona
  de bewegingsarmoede heeft versterkt.\n\nGelukkig lijkt het einde van alle
  beperkingen in zicht en wij hopen en rekenen er eigenlijk ook op dat we n
 a de zomer weer vrijuit met elkaar kunnen sporten\, trainen en ook weer co
 mpetitie wedstrijden spelen.\n\nVanuit SGO willen we na de zomer energiek 
 en feestelijk van start gaan. In de week van 13 t/m 18 september\, van maa
 ndag tot en met zaterdag organiseren we een SGO-Sportweek. Elke dag (morge
 n\, middag en/of avond) zal een SGO-afdeling in de spotlights staan. Elke 
 afdeling verzorgt een eigen en deels ook nieuw en uitdagend sportprogramma
  voor de eigen leden èn voor iedereen die kennis wil maken met deze sport
 en. Daarnaast zullen er enige side-events zijn met andere vormen van beweg
 en\, die niet binnen SGO maar wel in ons dorp worden beoefend.\n\nBij de a
 ftrap en bij de afsluiting zullen enkele interessante en bekende sprekers 
 hun ervaringen met verschillende uitdagingen met ons delen. Op zaterdag sl
 uiten we af met een Grand Finale!\n\nEn oh ja\, bestond SGO vorig jaar gee
 n 75 jaar? En dat wilden we toch vieren? Dat gaan we nu doen op zaterdagav
 ond met een SGO75+1-pubquiz en het grote SGO-feest. \n\nOm deze Sportweek 
 te kunnen houden\, is SGO een mooie financiële bijdrage toegezegd  vanuit
  het Sport- en beweegakkoord Aa en Hunze!\n\nMeer nieuws in het sportblad 
 na de zomervakantie. Noteer alvast in de agenda:\n\nmaandag 13 t/m zaterda
 g 18 september 2021!\n\nKlein voorbehoud: Er zijn geen beperkingen door Co
 rona bij de bijeenkomsten en bij het sporten.\n
ATTACH;FMTTYPE=image/jpeg:https://sgogrolloo.nl/wp-content/uploads/2021/07
 /7727-scaled.jpg
CATEGORIES:SGO Grolloo
LOCATION:Markehuis Grolloo\, De Pol 4\, Grolloo\, Drenthe\, 9444 XE\, Neder
 land
X-APPLE-STRUCTURED-LOCATION;VALUE=URI;X-ADDRESS=De Pol 4\, Grolloo\, Drenth
 e\, 9444 XE\, Nederland;X-APPLE-RADIUS=100;X-TITLE=Markehuis Grolloo:geo:0
 ,0
END:VEVENT
BEGIN:VTIMEZONE
TZID:Europe/Amsterdam
X-LIC-LOCATION:Europe/Amsterdam
BEGIN:DAYLIGHT
DTSTART:20210328T030000
TZOFFSETFROM:+0100
TZOFFSETTO:+0200
TZNAME:CEST
END:DAYLIGHT
END:VTIMEZONE
END:VCALENDAR